BEGIN:VCALENDAR
VERSION:2.0
PRODID:-//jEvents 2.0 for Joomla//EN
CALSCALE:GREGORIAN
METHOD:PUBLISH
BEGIN:VEVENT
UID:e3974fa6789ea05ce7cd149d342297d5
CATEGORIES:Veranstaltungen
CREATED:20231009T114407
SUMMARY:Erste Hilfe-Kurs 3wa
DESCRIPTION:
DTSTAMP:20260425T204351
DTSTART:20231013T060000
DTEND:20231013T153000
SEQUENCE:0
TRANSP:OPAQUE
END:VEVENT
END:VCALENDAR