BEGIN:VCALENDAR
VERSION:2.0
PRODID:-//jEvents 2.0 for Joomla//EN
CALSCALE:GREGORIAN
METHOD:PUBLISH
BEGIN:VEVENT
UID:07998ed6e073008bc1840a297f7ae1ae
CATEGORIES:Veranstaltungen
CREATED:20231002T150846
SUMMARY:1. pädagogische Konferenz
DESCRIPTION:
DTSTAMP:20260425T204007
DTSTART:20231011T122500
DTEND:20231011T160000
SEQUENCE:0
TRANSP:OPAQUE
END:VEVENT
END:VCALENDAR