BEGIN:VCALENDAR
VERSION:2.0
PRODID:-//jEvents 2.0 for Joomla//EN
CALSCALE:GREGORIAN
METHOD:PUBLISH
BEGIN:VEVENT
UID:b5eb0981b65508ad20670a6ec30f893f
CATEGORIES:Veranstaltungen
CREATED:20231002T150711
SUMMARY:Projektwoche der Klassen 4wa/4wb ind GESO und TOEM
DESCRIPTION:
DTSTAMP:20260425T203942
DTSTART:20231002T060000
DTEND:20231006T100000
SEQUENCE:0
TRANSP:OPAQUE
END:VEVENT
END:VCALENDAR