BEGIN:VCALENDAR
VERSION:2.0
PRODID:-//jEvents 2.0 for Joomla//EN
CALSCALE:GREGORIAN
METHOD:PUBLISH
BEGIN:VEVENT
UID:5ffdb7f4df55739a921c777d683711ae
CATEGORIES:Veranstaltungen
CREATED:20231002T150412
SUMMARY:Zwischenkonferenz 1.Nebentermin RDP 2022/23 
DESCRIPTION:
DTSTAMP:20260425T204502
DTSTART:20231005T084000
DTEND:20231005T085500
SEQUENCE:0
TRANSP:OPAQUE
END:VEVENT
END:VCALENDAR