BEGIN:VCALENDAR
VERSION:2.0
PRODID:-//jEvents 2.0 for Joomla//EN
CALSCALE:GREGORIAN
METHOD:PUBLISH
BEGIN:VEVENT
UID:23970492ebc654e0a140349c76f8eaa1
CATEGORIES:Veranstaltungen
CREATED:20231002T150256
SUMMARY:3.HTL-Klassen Besuch der Hausmesse im EW Reutte
DESCRIPTION:
DTSTAMP:20260425T204347
DTSTART:20231006T070000
DTEND:20231006T113000
SEQUENCE:0
TRANSP:OPAQUE
END:VEVENT
END:VCALENDAR