BEGIN:VCALENDAR
VERSION:2.0
PRODID:-//jEvents 2.0 for Joomla//EN
CALSCALE:GREGORIAN
METHOD:PUBLISH
BEGIN:VEVENT
UID:fcea7a111855c4ab42c8627efa43d958
CATEGORIES:Veranstaltungen
CREATED:20231002T150159
SUMMARY:EU Bürgerdialog - Meine Ideen für Europa
DESCRIPTION:
DTSTAMP:20260425T222449
DTSTART:20231006T060000
DTEND:20231006T080000
SEQUENCE:0
TRANSP:OPAQUE
END:VEVENT
END:VCALENDAR