BEGIN:VCALENDAR
VERSION:2.0
PRODID:-//jEvents 2.0 for Joomla//EN
CALSCALE:GREGORIAN
METHOD:PUBLISH
BEGIN:VEVENT
UID:71d41edbb4aa128b5ece9a2beebc8151
CATEGORIES:Termine
CREATED:20230919T100059
SUMMARY:Tag der offenen Tür an HAK, HTL und HLW
DESCRIPTION:
DTSTAMP:20260425T140336
DTSTART:20240112T100000
DTEND:20240112T160000
SEQUENCE:0
TRANSP:OPAQUE
END:VEVENT
END:VCALENDAR