BEGIN:VCALENDAR
VERSION:2.0
PRODID:-//jEvents 2.0 for Joomla//EN
CALSCALE:GREGORIAN
METHOD:PUBLISH
BEGIN:VEVENT
UID:3b71b899c94c2f21e69d0776b5649bca
CATEGORIES:Veranstaltungen
CREATED:20230914T103658
SUMMARY:Teilnahme der 4.HTL bei "Frag den Landeshauptmann"
DESCRIPTION:
DTSTAMP:20260425T234842
DTSTART:20230926T093000
DTEND:20230926T150000
SEQUENCE:0
TRANSP:OPAQUE
END:VEVENT
END:VCALENDAR