BEGIN:VCALENDAR
VERSION:2.0
PRODID:-//jEvents 2.0 for Joomla//EN
CALSCALE:GREGORIAN
METHOD:PUBLISH
BEGIN:VEVENT
UID:7e6b69d560ff7429fe42641d830e2cce
CATEGORIES:Veranstaltungen
CREATED:20230911T111035
SUMMARY:Besuch der FAFGA-Messe Innsbruck 3wa und 3wb
DESCRIPTION:
DTSTAMP:20260426T000526
DTSTART:20230921T060000
DTEND:20230921T150000
SEQUENCE:0
TRANSP:OPAQUE
END:VEVENT
END:VCALENDAR