BEGIN:VCALENDAR
VERSION:2.0
PRODID:-//jEvents 2.0 for Joomla//EN
CALSCALE:GREGORIAN
METHOD:PUBLISH
BEGIN:VEVENT
UID:1685f05c7dd011294b5c4fd204746251
CATEGORIES:Veranstaltungen
CREATED:20230911T110945
SUMMARY:JV-Tag - Wandertag
DESCRIPTION:
DTSTAMP:20260425T235030
DTSTART:20230915T060000
DTEND:20230915T100000
SEQUENCE:0
TRANSP:OPAQUE
END:VEVENT
END:VCALENDAR