BEGIN:VCALENDAR
VERSION:2.0
PRODID:-//jEvents 2.0 for Joomla//EN
CALSCALE:GREGORIAN
METHOD:PUBLISH
BEGIN:VEVENT
UID:7c440aba2399d5370716b23c96cbbade
CATEGORIES:Veranstaltungen
CREATED:20230908T090049
SUMMARY:1.Nebentermin RDP 22/23 Deutsch (schriftlich)
DESCRIPTION:
DTSTAMP:20260425T234819
DTSTART:20230920T060000
DTEND:20230920T100000
SEQUENCE:0
TRANSP:OPAQUE
END:VEVENT
END:VCALENDAR