BEGIN:VCALENDAR
VERSION:2.0
PRODID:-//jEvents 2.0 for Joomla//EN
CALSCALE:GREGORIAN
METHOD:PUBLISH
BEGIN:VEVENT
UID:4349165671e49aa6e02556a71aa0decb
CATEGORIES:Veranstaltungen
CREATED:20230908T085903
SUMMARY:1.Nebentermin RDP 22/23 Englisch (schriftlich)
DESCRIPTION:
DTSTAMP:20260425T235052
DTSTART:20230921T060000
DTEND:20230921T100000
SEQUENCE:0
TRANSP:OPAQUE
END:VEVENT
END:VCALENDAR