BEGIN:VCALENDAR
VERSION:2.0
PRODID:-//jEvents 2.0 for Joomla//EN
CALSCALE:GREGORIAN
METHOD:PUBLISH
BEGIN:VEVENT
UID:377cf6c5f17b71af4d3e317cdc7573d6
CATEGORIES:Veranstaltungen
CREATED:20230908T085820
SUMMARY:1.Nebentermin RDP 22/23 Italienisch (schriftlich)
DESCRIPTION:
DTSTAMP:20260426T013225
DTSTART:20230927T060000
DTEND:20230927T100000
SEQUENCE:0
TRANSP:OPAQUE
END:VEVENT
END:VCALENDAR