BEGIN:VCALENDAR
VERSION:2.0
PRODID:-//jEvents 2.0 for Joomla//EN
CALSCALE:GREGORIAN
METHOD:PUBLISH
BEGIN:VEVENT
UID:d276287d93fd0fa2b76bcadf4120f7d6
CATEGORIES:Veranstaltungen
CREATED:20230908T085737
SUMMARY:1.Nebentermin RDP 22/23 Deutsch (schriftlich)
DESCRIPTION:
DTSTAMP:20260425T234718
DTSTART:20230908T060000
DTEND:20230908T150000
SEQUENCE:0
TRANSP:OPAQUE
END:VEVENT
END:VCALENDAR