BEGIN:VCALENDAR
VERSION:2.0
PRODID:-//jEvents 2.0 for Joomla//EN
CALSCALE:GREGORIAN
METHOD:PUBLISH
BEGIN:VEVENT
UID:09b7b3becd5c9b5a1c6460a30fe99e28
CATEGORIES:Veranstaltungen
CREATED:20230906T102602
SUMMARY:1.Elternsprechtag 
DESCRIPTION:
DTSTAMP:20260425T185510
DTSTART:20231123T153000
DTEND:20231123T183000
SEQUENCE:0
TRANSP:OPAQUE
END:VEVENT
END:VCALENDAR