BEGIN:VCALENDAR
VERSION:2.0
PRODID:-//jEvents 2.0 for Joomla//EN
CALSCALE:GREGORIAN
METHOD:PUBLISH
BEGIN:VEVENT
UID:2c260cd963ea42e4be65a544306c3aaa
CATEGORIES:Veranstaltungen
CREATED:20230906T101741
SUMMARY:SGA-Sitzung HAK
DESCRIPTION:
DTSTAMP:20260425T202759
DTSTART:20231115T130000
DTEND:20231115T143000
SEQUENCE:0
TRANSP:OPAQUE
END:VEVENT
END:VCALENDAR