BEGIN:VCALENDAR
VERSION:2.0
PRODID:-//jEvents 2.0 for Joomla//EN
CALSCALE:GREGORIAN
METHOD:PUBLISH
BEGIN:VEVENT
UID:40b2707c338c150558a4782ffde25a52
CATEGORIES:Veranstaltungen
CREATED:20230906T101613
SUMMARY:SGA-Sitzung HTL
DESCRIPTION:
DTSTAMP:20260425T185516
DTSTART:20231115T150000
DTEND:20231115T163000
SEQUENCE:0
TRANSP:OPAQUE
END:VEVENT
END:VCALENDAR