BEGIN:VCALENDAR
VERSION:2.0
PRODID:-//jEvents 2.0 for Joomla//EN
CALSCALE:GREGORIAN
METHOD:PUBLISH
BEGIN:VEVENT
UID:e8108036d08dc6c376c59a4f4c209f07
CATEGORIES:Veranstaltungen
CREATED:20230906T101320
SUMMARY:Wahlen SGA-Elternvertreter:Innen
DESCRIPTION:
DTSTAMP:20260425T185305
DTSTART:20231108T070000
DTEND:20231108T110000
SEQUENCE:0
TRANSP:OPAQUE
END:VEVENT
END:VCALENDAR