BEGIN:VCALENDAR
VERSION:2.0
PRODID:-//jEvents 2.0 for Joomla//EN
CALSCALE:GREGORIAN
METHOD:PUBLISH
BEGIN:VEVENT
UID:1a1c263df5d4ca6fd82e9e010a6d5727
CATEGORIES:Veranstaltungen
CREATED:20230906T101217
SUMMARY:Tiroler Hochschultag
DESCRIPTION:
DTSTAMP:20260425T204155
DTSTART:20231019T060000
DTEND:20231019T150000
SEQUENCE:0
TRANSP:OPAQUE
END:VEVENT
END:VCALENDAR