BEGIN:VCALENDAR
VERSION:2.0
PRODID:-//jEvents 2.0 for Joomla//EN
CALSCALE:GREGORIAN
METHOD:PUBLISH
BEGIN:VEVENT
UID:3e0c2caedc9f0541d6372448bfe9284c
CATEGORIES:Veranstaltungen
CREATED:20230906T101134
SUMMARY:Wahlen SGA-Lehrervertreter:Innen
DESCRIPTION:
DTSTAMP:20260425T203845
DTSTART:20231018T060000
DTEND:20231018T100000
SEQUENCE:0
TRANSP:OPAQUE
END:VEVENT
END:VCALENDAR