BEGIN:VCALENDAR
VERSION:2.0
PRODID:-//jEvents 2.0 for Joomla//EN
CALSCALE:GREGORIAN
METHOD:PUBLISH
BEGIN:VEVENT
UID:146980257e1a20f79f7502d2199f8d3b
CATEGORIES:Veranstaltungen
CREATED:20230906T101025
SUMMARY:Wahlen SGA-Lehrervertreter:Innen
DESCRIPTION:
DTSTAMP:20260425T234840
DTSTART:20230906T060000
DTEND:20230906T150000
SEQUENCE:0
TRANSP:OPAQUE
END:VEVENT
END:VCALENDAR