BEGIN:VCALENDAR
VERSION:2.0
PRODID:-//jEvents 2.0 for Joomla//EN
CALSCALE:GREGORIAN
METHOD:PUBLISH
BEGIN:VEVENT
UID:39a86250fce3c2b2133bf291ce6e8bf4
CATEGORIES:Veranstaltungen
CREATED:20230906T100820
SUMMARY:Schulsprecherwahlen
DESCRIPTION:
DTSTAMP:20260425T203913
DTSTART:20231009T060000
DTEND:20231009T100000
SEQUENCE:0
TRANSP:OPAQUE
END:VEVENT
END:VCALENDAR