BEGIN:VCALENDAR
VERSION:2.0
PRODID:-//jEvents 2.0 for Joomla//EN
CALSCALE:GREGORIAN
METHOD:PUBLISH
BEGIN:VEVENT
UID:3f0736a90128d6b1510dc331b896b97f
CATEGORIES:Veranstaltungen
CREATED:20230906T100527
SUMMARY:Jahreshauptversammlung Interessentenverein
DESCRIPTION:
DTSTAMP:20260425T235926
DTSTART:20230913T153000
DTEND:20230913T160000
SEQUENCE:0
TRANSP:OPAQUE
END:VEVENT
END:VCALENDAR