BEGIN:VCALENDAR
VERSION:2.0
PRODID:-//jEvents 2.0 for Joomla//EN
CALSCALE:GREGORIAN
METHOD:PUBLISH
BEGIN:VEVENT
UID:a73919d471f5f3647934baf19f9435f9
CATEGORIES:Veranstaltungen
CREATED:20230630T112731
SUMMARY:Ball HAK/HLW Ehrenberger Klause
DESCRIPTION:
DTSTAMP:20260425T203830
DTSTART:20231025T160000
DTEND:20231025T210000
SEQUENCE:0
TRANSP:OPAQUE
END:VEVENT
END:VCALENDAR