BEGIN:VCALENDAR
VERSION:2.0
PRODID:-//jEvents 2.0 for Joomla//EN
CALSCALE:GREGORIAN
METHOD:PUBLISH
BEGIN:VEVENT
UID:01d74ec35d71817bdf3347de92dc0558
CATEGORIES:Veranstaltungen
CREATED:20230630T112510
SUMMARY:Eröffnungskonferenz HAK/HTL/HLW
DESCRIPTION:
DTSTAMP:20260425T234653
DTSTART:20230913T120000
DTEND:20230913T140000
SEQUENCE:0
TRANSP:OPAQUE
END:VEVENT
END:VCALENDAR