BEGIN:VCALENDAR
VERSION:2.0
PRODID:-//jEvents 2.0 for Joomla//EN
CALSCALE:GREGORIAN
METHOD:PUBLISH
BEGIN:VEVENT
UID:61a0396e3db2af1fd5ed5ae744eee574
CATEGORIES:Veranstaltungen
CREATED:20230630T111714
SUMMARY:Eröffnungsgottesdienst St.Anna Kirche in Reutte
DESCRIPTION:
DTSTAMP:20260426T000341
DTSTART:20230913T060000
DTEND:20230913T070000
SEQUENCE:0
TRANSP:OPAQUE
END:VEVENT
END:VCALENDAR